Workbook
Name Table_1.A__All_clinical_schemes: '[1]1 '!$B$7
Name Table7A1: '[2]3'!$C$8
Name Table7A1: '[3]3'!$C$24
Name Table7A2: '[2]3'!$C$24
Name Table7A2: '[3]3'!$C$40
Name Table7A3: '[2]3'!$C$40
Name Table7A3: '[3]3'!$C$8
Name Table7B1: '[2]3'!$C$58
Name Table7B1: '[3]3'!$C$73
Name Table7B2: '[2]3'!$C$74
Name Table7B2: '[3]3'!$C$89
Name Table7B3: '[2]3'!$C$90
Name Table7B3: '[3]3'!$C$57
Name Table7C3: '[3]3'!#REF!
Name Table7D1: '[2]3'!$C$158
Name Table7D1: '[3]3'!$C$170
Name Table7D2: '[2]3'!$C$174
Name Table7D2: '[3]3'!$C$186
Name Table7D3: '[2]3'!$C$190
Name Table7D3: '[3]3'!$C$153
Name Table7E1: '[2]3'!$C$208
Name Table7E1: '[3]3'!$C$220
Name Table7E2: '[2]3'!$C$224
Name Table7E2: '[3]3'!$C$236
Name Table7E3: '[2]3'!$C$240
Name Table7E3: '[3]3'!#REF!
Name Table7F1: '[2]3'!$C$258
Name Table7F1: '[3]3'!$C$269
Name Table7F2: '[2]3'!$C$274
Name Table7F2: '[3]3'!$C$285
Name Table7F3: '[2]3'!$C$290
Name Table7F3: '[3]3'!$C$253
Name Table8B3: '[3]4'!#REF!

Sheet Contents
A1: Table of Contents
A3: Sheet 1 - Total Volume of Clinical Claims Settled 2006/07 - 2025/26 (By Damages Tranche)
A5: Sheet 2 - Total Volume of Clinical Claims Settled 2006/07 - 2025/26 (By Specialty)
A7: Sheet 3 - Total Estimated Value of Clinical Claims Settled 2006/07 - 2025/26 (By Damages Tranche)
A9: Sheet 4 - Total Estimated Value of Clinical Claims Settled 2006/07 - 2025/26 (By Specialty)
A11: Sheet 5 - Total Estimated Damages Value of Clinical Claims Settled 2006/07 - 2025/26 (By Damages Tranche)
A13: Sheet 6 - Total Estimated Damages Value of Clinical Claims Settled 2006/07 - 2025/26 (By Specialty)
A15: Sheet 7 - Total Estimated Claimant Legal Costs Value of Clinical Claims Settled 2006/07 - 2025/26 (By Damages Tranche)
A17: Sheet 8 - Total Estimated Claimant Legal Costs Value of Clinical Claims Settled 2006/07 - 2025/26 (By Specialty)
A19: Sheet 9 - Total Estimated NHS Legal Costs Value of Clinical Claims Settled 2006/07 - 2025/26 (By Damages Tranche)
A21: Sheet 10 - Total Estimated NHS Legal Costs Value of Clinical Claims Settled 2006/07 - 2025/26 (By Specialty)

Sheet Explanatory Notes
A2: Explanatory Notes - Additional Annual Statistics 2025-26 - settled claim volume and value
A6: The criteria for claims to be included in this dataset are the same as for NHS Resolution's Annual report and accounts. However, the data in this dataset is extracted using a single snapshot of those claims as at the end of the latest financial year, 31 March 2026. This aligns with data extracted for the Supplementary Annual Statistics. Data for the Annual report and accounts and Annual Report Statistics is extracted differently, based on 'point in time' data reflecting claims as at the end of each individual financial year.
A8: The most recent Annual report and accounts, for 2025/26 and previous years can be found at:
A9: Annual statistics - NHS Resolution
A11: To minimise identification of individual claims any entries having a value less than 5, or a monetary value of less than £5,000 is replaced with '#'.
A12: On each tab there is a table that shows the totals across all schemes.
A13: Where a "#" exists in the individual scheme table the actual value is included within the total table for that tab
A15: Glossary
A17: Financial Year | B17: Each year runs from 1st April to 31 March.
A19: Schemes | B19: This and all subsequent sheets only contain data on NHS Resolution’s clinical schemes – non-clinical schemes are excluded throughout. Definitions of these schemes can be found in the next tab. Some records in our claims management system for clinical type matters are excluded from both the NHS Resolution Annual Report and Accounts and this Additional Annual Statistics spreadsheets. That is: Early Notification scheme incidents that have not become claims, ELSGP cases that NHS Resolution is not responsible for, and cancelled cases. Only Early Notification scheme incidents and certain ELSGP cases were excluded for payments in the Supplementary Annual Statistics spreadsheet published prior to 2021/22.
A22: Settled claim | B22: A claim where there has been a settlement or court order in relation to damages, for either nil or an amount for payment. In relation to claims with an ongoing Periodical Payments Order (PPO), the settlement year will be the financial year damages were agreed or ordered. PPO definition: a PPO claim is one where, rather than paying the total compensation up-front in one lump sum, compensation for long term requirements, mostly social care, is paid at regular intervals, usually annually over the claimant's life. This is often appropriate when life expectancy is uncertain and gives the claimant certainty that their compensation will not run out if they live for longer than predicted. A lump sum amount is also paid for PPO claims and this includes any interim payments prior to settlement and the lump sum amount paid at settlement.
A24: Settlement Year | B24: The financial year in which a claim is recorded as settled on our system.
A27: Damages | B27: Damages is the amount of compensation to claimants which includes both the expected amounts to be paid and actual amounts that have been paid to date. The estimated or final value of damages may change during the lifetime of a claim. The Damages value used is the amount recorded as the total damages reserve in the NHS Resolution claims management system as at 31 March 2026, which includes the full capitalised value of a claim. For claims involving a periodic payment order (PPO) the capitalised value is the aggregate value of payments made to date and estimated future payments to be made, usually for the expected lifetime of the injured party, as recorded on our system. If the PPO is for a period shorter than the lifetime of the claimant, the shorter period will be used. The number of years of periodic payments estimated at the time of settlement is agreed by the parties or ordered by the court following consideration of advice from a clinical expert(s). If the claimant dies before the end of the estimated period, or outlives the initial estimate, the life expectancy and the damages reserve is amended in the NHS Resolution system. For claims settled close to 31 March 2026, the damages value recorded as at 31 March 2026 may not be the final exact value because the value can alter with final formal calculations required upon settlement. On occasions claimant legal costs are also paid by NHS Resolution where the claimant receives nil damages. For example a court may order (or NHS Resolution may agree prior to court proceedings) that NHS Resolution pay some claimant legal costs associated with an intermediate step associated with the claimant pursuing the claim, even if the final outcome is no damages are payable
B29: Claims included in previously published datasets (for example the average values in the SAS in 2024/25) may move to be recorded within a different year and damages band or specialty based on updates to data recorded for the claim. This may occur, for example if a particular claim had been closed due to no action on the file, and re-opened then settled with a different value to what had been estimated at the time it was recorded for the previously published dataset. It may also occur if the damages bands used are changed to reflect movements in relevant damages thresholds (for example the small claims value threshold), in which case some claims may move to be recorded within a different damages band.
A31: Damages value tranche | B31: The value band in which the estimated Damages value for the claim (as defined above) fell, as at 31 March 2026. For claims that settled with a PPO, this includes the full estimated capitalised value of the claim recorded as at 31 March 2026.
B32: NHS Resolution sets a financial threshold, based on actuarial analysis, above which it is assumed that claims not yet settled will likely settle as a PPO. This threshold is reviewed annually, and increased from £4.25m to £4.5m in the 2025/26 financial year. This threshold is used as the top level damages value band for consistency with the information in the annual report and accounts.
A34: Specialties | B34: The branch of clinical practice relating to the treatment causing the alleged harm, usually related to the specialty of the healthcare provider against whom the main allegations have been made.
B35: A claim's Specialty may change during it's lifetime. The Specialty used is the primary specialty recorded on the system as at as at 31 March 2026.
B36: The Obstetrics specialty includes existing and previous specialty types: Obstetrics, Obstetrics / Gynaecology, community midwifery, and antenatal clinic.
B37: Cerebral palsy, or Brain Damage (CP/BD) is specified where the Specialty is Obstetrics (as defined above) and when the injuries Cerebral Palsy or Brain Damage appear as one of the three primary injuries.
B38: Neonatal specialty was added from 1 April 2021 and has a low volume of claims. Claims with that specialty would previously have been grouped with the 'other' specialty grouping, they are now shown separately in the publication from 2024/25.
B39: General Practice Indemnity claims are predominately recorded using the general practice specialty which is then grouped within the Other specialty grouping.
A41: Settled claim volume | B41: The volume of claims recorded as at 31 March 2026 as being settled in each of the given financial years. For years other than 2025/26, this may be different from the figures for settled claims volume in the NHSR Annual report and accounts and Annual Report Statistics (ARS). The ARS data is consistent with NHS Resolution Annual Reports, which reflects activity in each financial year as required in an annual report. However, as that data reflects each year of activity, some claims are included in the statistics multiple times. Claims can be settled and then re-opened and settled again in different years. This often occurs if a claim is not actively pursued for a period, is 'settled' without damages and later re-activated. Settled claim volume in both this dataset and the ARS includes claims settled with and without damages.
A44: Total costs (total value of settled claims) | B44: The total reserve recorded as at 31 March 2026 for claims that settled in each of the given financial years, which includes damages, claimant legal costs and NHS defendant legal costs. The total reserve value for settled claims can include interim payments made in any year before settlement or in the year of settlement for both damages and legal costs. It also includes payments at settlement and the capitalised value of periodic payments in estimated years remaining after settlement. The total value of settled claims is different to payments data published in the Supplementary Annual Statistics (SAS). This settled claim dataset provides the total values for claims settled in the relevant settlement year whereas payments data in the SAS sets out payments made for any claim in the relevant payment year, irrespective of whether the claim was settled.
A45: Total Damages Value | B45: The total of the Damages reserve recorded as at 31 March 2026 for claims settled in each of the given financial years.
B46: Total damages value is significantly impacted by the applicable Personal Injury Discount Rate (PIDR). On 27 February 2017, the Lord Chancellor announced a change to the PIDR from 2.5% to minus 0.75%, effective from 20 March 2017. Subsequent changes in the rate have been introduced, the first being to minus 0.25% which was introduced on 5 August 2019 and the second being to 0.50% introduced on the 11 January 2025. The personal injury discount rate (PIDR) is used to calculate the lump sum payable in relation to future losses such that, allowing for investment returns, it represents the value that the claimant would need to invest now to generate future income to cover those losses. The change in the PIDR rate can make it more difficult to compare damages amounts across different years. The Total damages value tables show the value of payments related to change in the PIDR rate separately, which provides a way to view damages payments on a more consistent basis. From 2017/18 up to 10 January 2025 the value of payments related to the change in the PIDR rate from 2.5% has been recorded in the Claims Management System. From the 11 January 2025 the value of payments related to the change in the PIDR rate from 2.5% have not been recorded in the Claims Management System. To be able to continue to show the impact on a consistent basis, actuarial factors have been applied to damages payments to produce an equivalent estimated payment amount under a PIDR of 2.5%. The PIDR rate is not recorded in the Claims Management System against the total damages value, only against the value of each payments. To show the estimated impact of PIDR on the value of settled claims for all periods since March 2017, we have subtracted from the damages reserve at 31 March 2026 the value of payments related to the change in PIDR from 2.5%. It is important to note the PIDR change value in this dataset is an estimate of the PIDR change impact on the settled value of claims, rather than an exact calculation. This is because the data we have available on PIDR change value for payments does not capture the PIDR change value for any damages unpaid as at 31 March 2026. The PIDR change value will not be fully reflected for claims where the settlement included an element of future loss payable by a lump sum and the payment was not made as at 31 March 2026 (i.e., with settlements close to 31 March 2026). Periodic payments do not have PIDR applied, so outstanding periodic payments do not impact the PIDR change figures.
B47: There are PIDR payments being reported in 2010/11,2011/12 and 2012/13 for cases that settled in these years, which is prior to the change in PIDR (March 2017). Some of these cases where stayed pending the PIDR change allowing claimants to be awarded additional damages following the PIDR change. The settlement date of these claims did not change.
A48: Total Claimant legal costs Value | B48: The total of the claimant legal reserve recorded as at 31 March 2026 for claims settled in each of the given financial years. Claimant legal costs can take several months or more to finalise after settlement of the substantive damages claim, longer for some larger value claims. The data includes the paid and estimated unpaid legal costs recorded in NHSR systems as at 31 March 2026. Claimant legal costs include the claimant solicitor's profit costs and disbursements, and in some cases After the Event Insurance and success fees, payable by NHS Resolution. They are mostly inclusive of VAT.
A50: Total NHS legal costs Value | B50: The total of the NHS legal costs reserve recorded as at 31 March 2026 for claims settled in each of the given financial years. NHS legal costs may not have been finalised as at 31 March 2026. The data includes the paid and estimated unpaid legal costs recorded in NHSR systems as at 31 March 2026. NHS legal costs include the defendant solicitor's profit costs and disbursements payable by NHS Resolution, and does not include VAT (where VAT is reclaimable).
A53: Other useful information | B53: Our financial data relating to the costs of negligent care does not include hidden costs to the NHS, for example the time taken to undertake clinical patient safety investigations - we do not collect this information. The data also excludes NHS Resolution costs of investigating and internal claims handling. Thus the data held in this spreadsheet cannot provide the total cost of clinical negligence.
B54: All schemes are run on a pay-as-you-go basis and so we only collect from members, or receive funding from DHSC for what NHS Resolution calculates it will be paying out on claims on a year-on-year basis. NHS Resolution does not ‘collect’ nor ‘set-aside’ billions of pounds in anticipation of the future outgoings of the schemes. This is to ensure that funds are not diverted from delivering the services and helps spread the burden of costs into the future, as and when they need to be paid out.
B55: NHS Resolution’s Claims Management service only covers England. Until 31/3/2019 our schemes covered secondary and tertiary NHS care and treatment. Effective from 1st April 2019 we now operate the CNSGP scheme, covering the provision of NHS-commissioned general practice care. NHS Resolution also operates the Existing Liabilities Scheme for General Practice (ELSGP). ELSGP is a state indemnity scheme for general practice in respect of liabilities incurred before 1 April 2019. As at 31 March 2022 the ELSGP covers historical liabilities for members of the Medical and Dental Defence Union of Scotland (MDDUS) or the Medical Protection Society (MPS) at the time of the incident in respect of which a claim is made, and any practice staff working for the MDDUS or MPS member at the time of that incident.

Sheet Definition of Schemes
B2: Definition of schemes
B8: The seven clinical negligence schemes are:
B10: Clinical Negligence Scheme for Trusts (CNST) which covers clinical negligence claims for incidents occurring on or after 1 April 1995.
B12: Existing Liabilities Scheme (ELS) which is centrally funded by DHSC and covers clinical negligence claims against NHS organisations for incidents occurring before 1 April 1995.
B14: Ex-Regional Health Authority Scheme (Ex-RHAS) which is a relatively small scheme, centrally funded by DHSC, covering clinical negligence claims against former Regional Health Authorities abolished in 1996.
B16: DHSC clinical which covers clinical negligence liabilities that have transferred to the Secretary of State for Health and Social Care following the abolition of any relevant health bodies. These are centrally funded by DHSC.
B18: Clinical Negligence Scheme for General Practice(CNSGP) which covers clinical negligence claims for incidents occurring in general practice on or after 1 April 2019.
B21: Existing Liabilities Scheme for General Practice(ELSGP) which covers claims for historical NHS clinical negligence and other tortious incidents of GP members of participating medical defence organisations occurring at any time before 1 April 2019. This scheme covered members of Medical and Dental Defence Union of Scotland from April 2020 and was extended to Medical Protection Society members from 1 April 2021.
B23: Clinical Negligence Scheme for Coronavirus(CNSC) A new scheme launched in April 2020 to meet clinical negligence liabilities arising from NHS services provided in response to the coronavirus pandemic where no other indemnity or insurance arrangements are in place already to cover such liabilities.

Sheet 1
B1: Sheet 1 Total Volume of Settled Clinical Claims 2006/07 - 2025/26 (recorded as at 31.03.26)
B2: By Financial year of settlement and damages value band
B4: Table 1.A: All clinical schemes
C6: Settlement Year
B7: Damages Tranche | C7: 2006/07 | D7: 2007/08 | E7: 2008/09 | F7: 2009/10 | G7: 2010/11 | H7: 2011/12 | I7: 2012/13 | J7: 2013/14 | K7: 2014/15 | L7: 2015/16 | M7: 2016/17 | N7: 2017/18 | O7: 2018/19 | P7: 2019/20 | Q7: 2020/21 | R7: 2021/22 | S7: 2022/23 | T7: 2023/24 | U7: 2024/25 | V7: 2025/26
B8: NIL | C8: 2639 | D8: 2247 | E8: 2062 | F8: 2015 | G8: 2315 | H8: 2496 | I8: 2746 | J8: 3400 | K8: 3889 | L8: 3814 | M8: 3988 | N8: 3974 | O8: 3581 | P8: 3626 | Q8: 4155 | R8: 5287 | S8: 5575 | T8: 5505 | U8: 5692 | V8: 5168
B9: £1-£1,500 | C9: 227 | D9: 176 | E9: 157 | F9: 208 | G9: 224 | H9: 218 | I9: 298 | J9: 294 | K9: 343 | L9: 337 | M9: 392 | N9: 300 | O9: 265 | P9: 272 | Q9: 241 | R9: 216 | S9: 205 | T9: 205 | U9: 181 | V9: 120
B10: £1,501-£25,000 | C10: 1690 | D10: 1982 | E10: 1763 | F10: 2430 | G10: 2854 | H10: 2850 | I10: 2981 | J10: 3256 | K10: 3229 | L10: 3402 | M10: 3989 | N10: 3734 | O10: 3518 | P10: 3591 | Q10: 3569 | R10: 3350 | S10: 3363 | T10: 3344 | U10: 3126 | V10: 2916
B11: £25,001-£50,000 | C11: 393 | D11: 491 | E11: 438 | F11: 697 | G11: 761 | H11: 795 | I11: 780 | J11: 948 | K11: 774 | L11: 926 | M11: 1043 | N11: 1091 | O11: 1065 | P11: 1113 | Q11: 1119 | R11: 1072 | S11: 1148 | T11: 1135 | U11: 1081 | V11: 1214
B12: £50,001-£100,000 | C12: 246 | D12: 353 | E12: 321 | F12: 433 | G12: 527 | H12: 547 | I12: 513 | J12: 626 | K12: 588 | L12: 658 | M12: 760 | N12: 683 | O12: 736 | P12: 766 | Q12: 852 | R12: 839 | S12: 872 | T12: 791 | U12: 777 | V12: 880
B13: £100,001-£250,000 | C13: 208 | D13: 279 | E13: 279 | F13: 406 | G13: 360 | H13: 474 | I13: 439 | J13: 420 | K13: 383 | L13: 543 | M13: 604 | N13: 513 | O13: 542 | P13: 578 | Q13: 629 | R13: 624 | S13: 619 | T13: 583 | U13: 630 | V13: 643
B14: £250,001-£500,000 | C14: 70 | D14: 102 | E14: 100 | F14: 151 | G14: 149 | H14: 199 | I14: 203 | J14: 197 | K14: 156 | L14: 212 | M14: 259 | N14: 230 | O14: 252 | P14: 282 | Q14: 308 | R14: 276 | S14: 279 | T14: 287 | U14: 225 | V14: 326
B15: £500,001-£1,000,000 | C15: 40 | D15: 56 | E15: 55 | F15: 80 | G15: 98 | H15: 101 | I15: 107 | J15: 101 | K15: 95 | L15: 98 | M15: 127 | N15: 154 | O15: 194 | P15: 164 | Q15: 144 | R15: 184 | S15: 158 | T15: 189 | U15: 168 | V15: 215
B16: £1,000,001-£2,000,000 | C16: 25 | D16: 39 | E16: 34 | F16: 60 | G16: 55 | H16: 48 | I16: 41 | J16: 57 | K16: 52 | L16: 51 | M16: 67 | N16: 83 | O16: 104 | P16: 95 | Q16: 99 | R16: 70 | S16: 87 | T16: 103 | U16: 83 | V16: 119
B17: £2,000,001-£4,499,999 | C17: 54 | D17: 54 | E17: 55 | F17: 52 | G17: 47 | H17: 76 | I17: 63 | J17: 61 | K17: 66 | L17: 58 | M17: 63 | N17: 71 | O17: 75 | P17: 58 | Q17: 56 | R17: 63 | S17: 56 | T17: 80 | U17: 46 | V17: 78
B18: £4,500,000+ | C18: 32 | D18: 32 | E18: 65 | F18: 58 | G18: 67 | H18: 98 | I18: 83 | J18: 91 | K18: 76 | L18: 89 | M18: 102 | N18: 141 | O18: 179 | P18: 132 | Q18: 130 | R18: 110 | S18: 159 | T18: 149 | U18: 115 | V18: 162
B19: Grand Total | C19: 5624 | D19: 5811 | E19: 5329 | F19: 6590 | G19: 7457 | H19: 7902 | I19: # | J19: 9451 | K19: 9651 | L19: 10188 | M19: # | N19: # | O19: 10511 | P19: 10677 | Q19: # | R19: 12091 | S19: 12521 | T19: 12371 | U19: 12124 | V19: 11841
B21: Table 1.B: CNST
C23: Settlement Year
B24: Damages Tranche | C24: 2006/07 | D24: 2007/08 | E24: 2008/09 | F24: 2009/10 | G24: 2010/11 | H24: 2011/12 | I24: 2012/13 | J24: 2013/14 | K24: 2014/15 | L24: 2015/16 | M24: 2016/17 | N24: 2017/18 | O24: 2018/19 | P24: 2019/20 | Q24: 2020/21 | R24: 2021/22 | S24: 2022/23 | T24: 2023/24 | U24: 2024/25 | V24: 2025/26
B25: NIL | C25: 2490 | D25: 2081 | E25: 1949 | F25: 1930 | G25: 2225 | H25: 2432 | I25: 2686 | J25: 3258 | K25: 3770 | L25: 3726 | M25: 3914 | N25: 3921 | O25: 3532 | P25: 3372 | Q25: 3141 | R25: 3383 | S25: 3457 | T25: 3533 | U25: 3718 | V25: 3348
B26: £1-£1,500 | C26: 226 | D26: 176 | E26: 155 | F26: 207 | G26: 223 | H26: 217 | I26: 292 | J26: 291 | K26: 341 | L26: 336 | M26: 390 | N26: 298 | O26: 263 | P26: 261 | Q26: 215 | R26: 168 | S26: 132 | T26: 158 | U26: 133 | V26: 97
B27: £1,501-£25,000 | C27: 1646 | D27: 1948 | E27: 1734 | F27: 2405 | G27: 2802 | H27: 2811 | I27: 2902 | J27: 3150 | K27: 3164 | L27: 3338 | M27: 3950 | N27: 3708 | O27: 3505 | P27: 3429 | Q27: 3382 | R27: 2894 | S27: 2946 | T27: 2889 | U27: 2704 | V27: 2549
B28: £25,001-£50,000 | C28: 374 | D28: 472 | E28: 426 | F28: 685 | G28: 746 | H28: 744 | I28: 745 | J28: 897 | K28: 753 | L28: 903 | M28: 1023 | N28: 1073 | O28: 1058 | P28: 1084 | Q28: 1076 | R28: 974 | S28: 1057 | T28: 1041 | U28: 975 | V28: 1092
B29: £50,001-£100,000 | C29: 229 | D29: 340 | E29: 308 | F29: 416 | G29: 505 | H29: 496 | I29: 486 | J29: 592 | K29: 567 | L29: 638 | M29: 739 | N29: 676 | O29: 726 | P29: 758 | Q29: 823 | R29: 771 | S29: 807 | T29: 717 | U29: 691 | V29: 797
B30: £100,001-£250,000 | C30: 191 | D30: 263 | E30: 265 | F30: 385 | G30: 350 | H30: 458 | I30: 417 | J30: 391 | K30: 363 | L30: 528 | M30: 588 | N30: 499 | O30: 528 | P30: 572 | Q30: 603 | R30: 554 | S30: 561 | T30: 530 | U30: 570 | V30: 569
B31: £250,001-£500,000 | C31: 59 | D31: 93 | E31: 84 | F31: 144 | G31: 135 | H31: 186 | I31: 180 | J31: 187 | K31: 143 | L31: 203 | M31: 243 | N31: 221 | O31: 249 | P31: 277 | Q31: 292 | R31: 247 | S31: 257 | T31: 259 | U31: 205 | V31: 294
B32: £500,001-£1,000,000 | C32: 32 | D32: 47 | E32: 46 | F32: 67 | G32: 87 | H32: 94 | I32: 101 | J32: 94 | K32: 85 | L32: 92 | M32: 121 | N32: 148 | O32: 189 | P32: 162 | Q32: 133 | R32: 177 | S32: 145 | T32: 167 | U32: 153 | V32: 194
B33: £1,000,001-£2,000,000 | C33: 18 | D33: 25 | E33: 25 | F33: 45 | G33: 41 | H33: 43 | I33: 37 | J33: 51 | K33: 48 | L33: 49 | M33: 62 | N33: 79 | O33: 104 | P33: 93 | Q33: 97 | R33: 63 | S33: 79 | T33: 91 | U33: 76 | V33: 110
B34: £2,000,001-£4,499,999 | C34: 32 | D34: 30 | E34: 35 | F34: 36 | G34: 36 | H34: 58 | I34: 43 | J34: 53 | K34: 56 | L34: 54 | M34: 57 | N34: 68 | O34: 71 | P34: 55 | Q34: 54 | R34: 58 | S34: 50 | T34: 76 | U34: 42 | V34: 76
B35: £4,500,000+ | C35: 16 | D35: 15 | E35: 40 | F35: 39 | G35: 51 | H35: 76 | I35: 66 | J35: 83 | K35: 64 | L35: 85 | M35: 91 | N35: 130 | O35: 167 | P35: 128 | Q35: 129 | R35: 106 | S35: 149 | T35: 140 | U35: 114 | V35: 154
B36: Grand Total | C36: 5313 | D36: 5490 | E36: 5067 | F36: 6359 | G36: 7201 | H36: 7615 | I36: # | J36: 9047 | K36: 9354 | L36: 9952 | M36: # | N36: # | O36: 10392 | P36: 10191 | Q36: # | R36: 9395 | S36: 9640 | T36: 9601 | U36: 9381 | V36: 9280
B38: Table 1.C: ExRHA
C40: Settlement Year
B41: Damages Tranche | C41: 2006/07 | D41: 2007/08 | E41: 2008/09 | F41: 2009/10 | G41: 2010/11 | H41: 2011/12 | I41: 2012/13 | J41: 2013/14 | K41: 2014/15 | L41: 2015/16 | M41: 2016/17 | N41: 2017/18 | O41: 2018/19 | P41: 2019/20 | Q41: 2020/21 | R41: 2021/22 | S41: 2022/23 | T41: 2023/24 | U41: 2024/25 | V41: 2025/26
B42: NIL | C42: 6 | D42: # | E42: # | F42: # | G42: 0 | H42: 0 | I42: 0 | J42: 0 | K42: 0 | L42: 0 | M42: # | N42: # | O42: 0 | P42: 0 | Q42: 0 | R42: 0 | S42: 0 | T42: 0 | U42: 0 | V42: 0
B43: £1-£1,500 | C43: 0 | D43: 0 | E43: 0 | F43: 0 | G43: 0 | H43: 0 | I43: 0 | J43: 0 | K43: 0 | L43: 0 | M43: 0 | N43: 0 | O43: 0 | P43: 0 | Q43: 0 | R43: 0 | S43: 0 | T43: 0 | U43: 0 | V43: 0
B44: £1,501-£25,000 | C44: 0 | D44: 0 | E44: 0 | F44: 0 | G44: 0 | H44: 0 | I44: 0 | J44: 0 | K44: 0 | L44: 0 | M44: 0 | N44: 0 | O44: 0 | P44: # | Q44: 0 | R44: 0 | S44: 0 | T44: 0 | U44: 0 | V44: 0
B45: £25,001-£50,000 | C45: 0 | D45: 0 | E45: 0 | F45: 0 | G45: 0 | H45: 0 | I45: 0 | J45: 0 | K45: 0 | L45: 0 | M45: 0 | N45: 0 | O45: 0 | P45: 0 | Q45: 0 | R45: 0 | S45: 0 | T45: 0 | U45: 0 | V45: 0
B46: £50,001-£100,000 | C46: 0 | D46: 0 | E46: 0 | F46: 0 | G46: 0 | H46: 0 | I46: 0 | J46: 0 | K46: 0 | L46: 0 | M46: 0 | N46: 0 | O46: 0 | P46: 0 | Q46: 0 | R46: 0 | S46: 0 | T46: 0 | U46: 0 | V46: 0
...

Sheet 2
B1: Sheet 2 Total Volume of Settled Clinical Claims 2006/07 - 2025/26 (recorded as at 31.03.26)
B2: By financial year of settlement and specialty
B4: Table 2.A: All clinical schemes
C6: Settlement Year
B7: ARS Specialty | C7: 2006/07 | D7: 2007/08 | E7: 2008/09 | F7: 2009/10 | G7: 2010/11 | H7: 2011/12 | I7: 2012/13 | J7: 2013/14 | K7: 2014/15 | L7: 2015/16 | M7: 2016/17 | N7: 2017/18 | O7: 2018/19 | P7: 2019/20 | Q7: 2020/21 | R7: 2021/22 | S7: 2022/23 | T7: 2023/24 | U7: 2024/25 | V7: 2025/26
B8: Obstetrics CP/BD | C8: 315 | D8: 222 | E8: 240 | F8: 194 | G8: 208 | H8: 256 | I8: 190 | J8: 195 | K8: 166 | L8: 156 | M8: 191 | N8: 207 | O8: 196 | P8: 173 | Q8: 184 | R8: 180 | S8: 215 | T8: 223 | U8: 206 | V8: 236
B9: Obstetrics Non CP/BD | C9: 526 | D9: 555 | E9: 510 | F9: 592 | G9: 737 | H9: 787 | I9: 797 | J9: 863 | K9: 888 | L9: 879 | M9: 969 | N9: 867 | O9: 854 | P9: 851 | Q9: 759 | R9: 825 | S9: 856 | T9: 907 | U9: 910 | V9: 963
B10: Neonatology CP/BD | C10: 0 | D10: 0 | E10: 0 | F10: 0 | G10: 0 | H10: 0 | I10: # | J10: 0 | K10: 0 | L10: 0 | M10: 0 | N10: 0 | O10: # | P10: # | Q10: # | R10: 5 | S10: 7 | T10: 8 | U10: 9 | V10: 9
B11: Neonatology Non CP/BD | C11: 0 | D11: 0 | E11: 0 | F11: 0 | G11: 0 | H11: 0 | I11: 0 | J11: 0 | K11: 0 | L11: 0 | M11: # | N11: # | O11: # | P11: # | Q11: 6 | R11: 26 | S11: 27 | T11: 38 | U11: 42 | V11: 27
B12: Paediatrics | C12: 264 | D12: 233 | E12: 270 | F12: 221 | G12: 195 | H12: 191 | I12: 149 | J12: 220 | K12: 208 | L12: 222 | M12: 247 | N12: 236 | O12: 230 | P12: 197 | Q12: 199 | R12: 175 | S12: 177 | T12: 184 | U12: 204 | V12: 200
B13: Emergency Medicine | C13: 603 | D13: 688 | E13: 583 | F13: 767 | G13: 968 | H13: 1036 | I13: 1094 | J13: 1299 | K13: 1234 | L13: 1255 | M13: 1432 | N13: 1293 | O13: 1284 | P13: 1328 | Q13: 1265 | R13: 1115 | S13: 1182 | T13: 1209 | U13: 1207 | V13: 1195
B14: Trauma and Orthopaedic Surgery | C14: 782 | D14: 839 | E14: 803 | F14: 1013 | G14: 1108 | H14: 1171 | I14: 1301 | J14: 1468 | K14: 1465 | L14: 1517 | M14: 1652 | N14: 1399 | O14: 1313 | P14: 1310 | Q14: 1246 | R14: 1153 | S14: 1090 | T14: 1048 | U14: 984 | V14: 1035
B15: General Surgery | C15: 631 | D15: 703 | E15: 577 | F15: 766 | G15: 771 | H15: 770 | I15: 862 | J15: 911 | K15: 953 | L15: 1045 | M15: 1010 | N15: 1289 | O15: 930 | P15: 875 | Q15: 847 | R15: 767 | S15: 751 | T15: 660 | U15: 646 | V15: 622
B16: Neurosurgery | C16: 61 | D16: 55 | E16: 71 | F16: 93 | G16: 93 | H16: 76 | I16: 91 | J16: 98 | K16: 141 | L16: 145 | M16: 170 | N16: 168 | O16: 154 | P16: 177 | Q16: 142 | R16: 164 | S16: 154 | T16: 153 | U16: 139 | V16: 144
B17: General Medicine | C17: 382 | D17: 409 | E17: 364 | F17: 512 | G17: 548 | H17: 727 | I17: 528 | J17: 563 | K17: 519 | L17: 540 | M17: 607 | N17: 503 | O17: 525 | P17: 466 | Q17: 470 | R17: 404 | S17: 477 | T17: 476 | U17: 443 | V17: 417
B18: Gynaecology | C18: 287 | D18: 307 | E18: 292 | F18: 338 | G18: 281 | H18: 295 | I18: 386 | J18: 515 | K18: 590 | L18: 599 | M18: 699 | N18: 628 | O18: 569 | P18: 554 | Q18: 581 | R18: 672 | S18: 695 | T18: 635 | U18: 577 | V18: 612
B19: Radiology | C19: 87 | D19: 103 | E19: 86 | F19: 85 | G19: 101 | H19: 104 | I19: 124 | J19: 227 | K19: 273 | L19: 300 | M19: 355 | N19: 352 | O19: 348 | P19: 374 | Q19: 419 | R19: 367 | S19: 381 | T19: 418 | U19: 426 | V19: 438
B20: Neurology | C20: 49 | D20: 52 | E20: 60 | F20: 60 | G20: 69 | H20: 78 | I20: 77 | J20: 105 | K20: 92 | L20: 105 | M20: 129 | N20: 90 | O20: 112 | P20: 96 | Q20: 99 | R20: 111 | S20: 129 | T20: 108 | U20: 121 | V20: 94
B21: Psychiatry/ Mental Health | C21: 140 | D21: 167 | E21: 118 | F21: 147 | G21: 173 | H21: 156 | I21: 172 | J21: 224 | K21: 207 | L21: 225 | M21: 251 | N21: 231 | O21: 250 | P21: 392 | Q21: 287 | R21: 259 | S21: 298 | T21: 351 | U21: 409 | V21: 288
B22: Ophthalmology | C22: 121 | D22: 98 | E22: 101 | F22: 155 | G22: 143 | H22: 157 | I22: 146 | J22: 224 | K22: 181 | L22: 201 | M22: 255 | N22: 243 | O22: 257 | P22: 234 | Q22: 254 | R22: 233 | S22: 220 | T22: 238 | U22: 242 | V22: 274
B23: Cardiology | C23: 89 | D23: 90 | E23: 91 | F23: 125 | G23: 121 | H23: 134 | I23: 144 | J23: 132 | K23: 158 | L23: 182 | M23: 211 | N23: 205 | O23: 207 | P23: 197 | Q23: 213 | R23: 200 | S23: 223 | T23: 194 | U23: 185 | V23: 156
... B27: Other | C27: 1031 | D27: 1038 | E27: 929 | F27: 1224 | G27: 1572 | H27: 1577 | I27: 1751 | J27: 1899 | K27: 2039 | L27: 2242 | M27: 2485 | N27: 2596 | O27: 2514 | P27: 2705 | Q27: 3623 | R27: 4781 | S27: 4922 | T27: 4794 | U27: 4682 | V27: 4489
B28: Grand Total | C28: 5624 | D28: 5811 | E28: 5329 | F28: 6590 | G28: 7457 | H28: 7902 | I28: # | J28: 9451 | K28: 9651 | L28: 10188 | M28: # | N28: # | O28: 10511 | P28: 10677 | Q28: # | R28: 12091 | S28: 12521 | T28: 12371 | U28: 12124 | V28: 11841
B30: Table 2.B: CNST
C32: Settlement Year
B33: ARS Specialty | C33: 2006/07 | D33: 2007/08 | E33: 2008/09 | F33: 2009/10 | G33: 2010/11 | H33: 2011/12 | I33: 2012/13 | J33: 2013/14 | K33: 2014/15 | L33: 2015/16 | M33: 2016/17 | N33: 2017/18 | O33: 2018/19 | P33: 2019/20 | Q33: 2020/21 | R33: 2021/22 | S33: 2022/23 | T33: 2023/24 | U33: 2024/25 | V33: 2025/26
B34: Obstetrics CP/BD | C34: 227 | D34: 136 | E34: 163 | F34: 123 | G34: 144 | H34: 195 | I34: 143 | J34: 169 | K34: 142 | L34: 143 | M34: 168 | N34: 189 | O34: 181 | P34: 167 | Q34: 179 | R34: 175 | S34: 206 | T34: 218 | U34: 205 | V34: 231
B35: Obstetrics Non CP/BD | C35: 504 | D35: 520 | E35: 482 | F35: 561 | G35: 711 | H35: 771 | I35: 770 | J35: 838 | K35: 865 | L35: 865 | M35: 949 | N35: 856 | O35: 851 | P35: 844 | Q35: 757 | R35: 823 | S35: 852 | T35: 905 | U35: 906 | V35: 957
B36: Neonatology CP/BD | C36: 0 | D36: 0 | E36: 0 | F36: 0 | G36: 0 | H36: 0 | I36: # | J36: 0 | K36: 0 | L36: 0 | M36: 0 | N36: 0 | O36: # | P36: # | Q36: # | R36: 5 | S36: 7 | T36: 8 | U36: 9 | V36: 9
B37: Neonatology Non CP/BD | C37: 0 | D37: 0 | E37: 0 | F37: 0 | G37: 0 | H37: 0 | I37: 0 | J37: 0 | K37: 0 | L37: 0 | M37: # | N37: # | O37: # | P37: # | Q37: 6 | R37: 26 | S37: 27 | T37: 38 | U37: 42 | V37: 27
B38: Paediatrics | C38: 205 | D38: 185 | E38: 210 | F38: 175 | G38: 155 | H38: 168 | I38: 124 | J38: 196 | K38: 187 | L38: 202 | M38: 230 | N38: 223 | O38: 225 | P38: 193 | Q38: 194 | R38: 173 | S38: 171 | T38: 181 | U38: 200 | V38: 196
B39: Emergency Medicine | C39: 597 | D39: 684 | E39: 579 | F39: 764 | G39: 960 | H39: 1033 | I39: 1081 | J39: 1272 | K39: 1220 | L39: 1248 | M39: 1424 | N39: 1292 | O39: 1282 | P39: 1327 | Q39: 1263 | R39: 1112 | S39: 1176 | T39: 1204 | U39: 1204 | V39: 1184
B40: Trauma and Orthopaedic Surgery | C40: 763 | D40: 819 | E40: 789 | F40: 999 | G40: 1095 | H40: 1163 | I40: 1249 | J40: 1375 | K40: 1400 | L40: 1459 | M40: 1591 | N40: 1367 | O40: 1293 | P40: 1304 | Q40: 1229 | R40: 1149 | S40: 1085 | T40: 1041 | U40: 978 | V40: 1026
B41: General Surgery | C41: 610 | D41: 688 | E41: 563 | F41: 754 | G41: 763 | H41: 764 | I41: 847 | J41: 884 | K41: 933 | L41: 1029 | M41: 998 | N41: 1280 | O41: 923 | P41: 870 | Q41: 838 | R41: 748 | S41: 739 | T41: 652 | U41: 637 | V41: 610
B42: Neurosurgery | C42: 61 | D42: 54 | E42: 68 | F42: 90 | G42: 91 | H42: 75 | I42: 88 | J42: 96 | K42: 139 | L42: 144 | M42: 170 | N42: 166 | O42: 153 | P42: 176 | Q42: 141 | R42: 163 | S42: 154 | T42: 153 | U42: 136 | V42: 143
B43: General Medicine | C43: 381 | D43: 402 | E43: 358 | F43: 506 | G43: 546 | H43: 607 | I43: 516 | J43: 551 | K43: 509 | L43: 535 | M43: 604 | N43: 497 | O43: 520 | P43: 464 | Q43: 467 | R43: 397 | S43: 470 | T43: 470 | U43: 435 | V43: 375
B44: Gynaecology | C44: 273 | D44: 296 | E44: 286 | F44: 335 | G44: 277 | H44: 293 | I44: 372 | J44: 499 | K44: 577 | L44: 581 | M44: 692 | N44: 618 | O44: 563 | P44: 545 | Q44: 576 | R44: 669 | S44: 689 | T44: 631 | U44: 571 | V44: 609
B45: Radiology | C45: 84 | D45: 99 | E45: 86 | F45: 84 | G45: 101 | H45: 103 | I45: 123 | J45: 226 | K45: 269 | L45: 296 | M45: 352 | N45: 351 | O45: 347 | P45: 372 | Q45: 415 | R45: 367 | S45: 380 | T45: 415 | U45: 424 | V45: 436
B46: Neurology | C46: 44 | D46: 40 | E46: 55 | F46: 55 | G46: 63 | H46: 73 | I46: 75 | J46: 104 | K46: 88 | L46: 103 | M46: 128 | N46: 89 | O46: 112 | P46: 96 | Q46: 96 | R46: 110 | S46: 128 | T46: 107 | U46: 117 | V46: 88
B47: Psychiatry/ Mental Health | C47: 121 | D47: 137 | E47: 110 | F47: 143 | G47: 166 | H47: 153 | I47: 164 | J47: 217 | K47: 198 | L47: 221 | M47: 240 | N47: 230 | O47: 247 | P47: 247 | Q47: 255 | R47: 253 | S47: 289 | T47: 344 | U47: 359 | V47: 257
...

Sheet 3
B1: Sheet 3 Total Value of Settled Clinical Claims 2006/07 - 2025/26 (recorded as at 31.03.26)
B2: Damages (incl. capitalised periodic payments), NHS legal costs & claimant legal costs, by finanical year of settlement and damages value band
B4: Table 3.A: All clinical schemes
C6: Settlement Year
B7: Damages Tranche | C7: 2006/07 | D7: 2007/08 | E7: 2008/09 | F7: 2009/10 | G7: 2010/11 | H7: 2011/12 | I7: 2012/13 | J7: 2013/14 | K7: 2014/15 | L7: 2015/16 | M7: 2016/17 | N7: 2017/18 | O7: 2018/19 | P7: 2019/20 | Q7: 2020/21 | R7: 2021/22 | S7: 2022/23 | T7: 2023/24 | U7: 2024/25 | V7: 2025/26
B8: NIL | C8: 7915293.3 | D8: 7978758.2 | E8: 7522024.5 | F8: 6129746.5 | G8: 7281282 | H8: 6603083 | I8: 8549622.4 | J8: 9226153 | K8: 12245016 | L8: 15548573 | M8: 17366607 | N8: 17192362 | O8: 17892502 | P8: 22031381 | Q8: 20260371 | R8: 24277656 | S8: 25861672 | T8: 26820364 | U8: 26431970 | V8: 92307993
B9: £1-£1,500 | C9: 972927.87 | D9: 800448.7 | E9: 872289.4 | F9: 1114899.3 | G9: 1544348.9 | H9: 1414831.4 | I9: 2270705.5 | J9: 2664656.8 | K9: 2940157.6 | L9: 3406588 | M9: 3903288.7 | N9: 2834363.6 | O9: 2880711.9 | P9: 3159867.9 | Q9: 2589346 | R9: 2651568.3 | S9: 3095942.3 | T9: 3079120.8 | U9: 3162618.9 | V9: 1917357.5
B10: £1,501-£25,000 | C10: 41288818 | D10: 54217765 | E10: 52868019 | F10: 73125113 | G10: 83386114 | H10: 89781511 | I10: 98471463 | J10: 1.1416473e+08 | K10: 1.1788883e+08 | L10: 1.3726422e+08 | M10: 1.5429065e+08 | N10: 1.3923174e+08 | O10: 1.33166e+08 | P10: 1.330194e+08 | Q10: 1.3803638e+08 | R10: 1.348956e+08 | S10: 1.4273081e+08 | T10: 1.477658e+08 | U10: 1.4305509e+08 | V10: 1.4410215e+08
B11: £25,001-£50,000 | C11: 30089581 | D11: 38820297 | E11: 35631137 | F11: 56436030 | G11: 59259737 | H11: 63225563 | I11: 65507672 | J11: 82295323 | K11: 70342643 | L11: 96654041 | M11: 1.0223155e+08 | N11: 99041484 | O11: 91896696 | P11: 97759498 | Q11: 97126053 | R11: 96085470 | S11: 1.0560965e+08 | T11: 1.0553275e+08 | U11: 1.0154609e+08 | V11: 1.1881922e+08
B12: £50,001-£100,000 | C12: 32942068 | D12: 45355564 | E12: 44177489 | F12: 58523235 | G12: 68942425 | H12: 70269915 | I12: 72543730 | J12: 92551920 | K12: 91365816 | L12: 1.0709088e+08 | M12: 1.3236273e+08 | N12: 1.0682217e+08 | O12: 1.0904594e+08 | P12: 1.1179751e+08 | Q12: 1.2643967e+08 | R12: 1.2384709e+08 | S12: 1.3340472e+08 | T12: 1.2148361e+08 | U12: 1.1580075e+08 | V12: 1.3991929e+08
B13: £100,001-£250,000 | C13: 52001743 | D13: 73795312 | E13: 75283075 | F13: 1.0300147e+08 | G13: 89302762 | H13: 1.2193321e+08 | I13: 1.1678855e+08 | J13: 1.1816662e+08 | K13: 1.1643485e+08 | L13: 1.6678012e+08 | M13: 1.9503196e+08 | N13: 1.5423412e+08 | O13: 1.5101158e+08 | P13: 1.6171806e+08 | Q13: 1.7279274e+08 | R13: 1.7386217e+08 | S13: 1.7509859e+08 | T13: 1.704845e+08 | U13: 1.8564237e+08 | V13: 1.8890935e+08
B14: £250,001-£500,000 | C14: 33432088 | D14: 50360047 | E14: 49944508 | F14: 80271960 | G14: 78316361 | H14: 1.0854053e+08 | I14: 1.0260411e+08 | J14: 1.0200681e+08 | K14: 89204447 | L14: 1.2867456e+08 | M14: 1.5223047e+08 | N14: 1.2924672e+08 | O14: 1.3979041e+08 | P14: 1.4987443e+08 | Q14: 1.6594246e+08 | R14: 1.5547941e+08 | S14: 1.5281245e+08 | T14: 1.6817983e+08 | U14: 1.2678793e+08 | V14: 2.6741945e+08
B15: £500,001-£1,000,000 | C15: 39403990 | D15: 51954419 | E15: 49116462 | F15: 75029016 | G15: 91602710 | H15: 95236169 | I15: 98765887 | J15: 97202995 | K15: 98360777 | L15: 99750253 | M15: 1.3265539e+08 | N15: 1.5933604e+08 | O15: 1.8929344e+08 | P15: 1.5503843e+08 | Q15: 1.4419666e+08 | R15: 1.7711771e+08 | S15: 1.5488187e+08 | T15: 1.9162335e+08 | U15: 1.7273233e+08 | V15: 2.1941673e+08
B16: £1,000,001-£2,000,000 | C16: 47685911 | D16: 68703408 | E16: 59983089 | F16: 1.1064198e+08 | G16: 91263837 | H16: 82968162 | I16: 71739329 | J16: 1.0123317e+08 | K16: 97332281 | L16: 94941183 | M16: 1.205293e+08 | N16: 1.5043347e+08 | O16: 1.9124944e+08 | P16: 1.6603135e+08 | Q16: 1.7333065e+08 | R16: 1.2401052e+08 | S16: 1.5136374e+08 | T16: 1.9061421e+08 | U16: 1.5470057e+08 | V16: 2.152872e+08
B17: £2,000,001-£4,499,999 | C17: 1.8042806e+08 | D17: 1.8905472e+08 | E17: 1.9299011e+08 | F17: 1.8453356e+08 | G17: 1.7189932e+08 | H17: 2.6543638e+08 | I17: 2.2856803e+08 | J17: 2.2659811e+08 | K17: 2.4751893e+08 | L17: 2.0362023e+08 | M17: 2.2749509e+08 | N17: 2.4934225e+08 | O17: 2.6547089e+08 | P17: 1.9622316e+08 | Q17: 1.8853315e+08 | R17: 2.1233987e+08 | S17: 1.9151573e+08 | T17: 2.8448592e+08 | U17: 1.6864903e+08 | V17: 2.9099175e+08
B18: £4,500,000+ | C18: 2.2659143e+08 | D18: 2.1605817e+08 | E18: 4.4471315e+08 | F18: 3.792531e+08 | G18: 4.8965996e+08 | H18: 7.6871876e+08 | I18: 6.1692891e+08 | J18: 6.547794e+08 | K18: 5.7714646e+08 | L18: 7.2126945e+08 | M18: 8.9184637e+08 | N18: 1.8561544e+09 | O18: 2.3861847e+09 | P18: 1.7862343e+09 | Q18: 1.559694e+09 | R18: 1.5603083e+09 | S18: 2.2879461e+09 | T18: 2.1910933e+09 | U18: 1.8070443e+09 | V18: 2.3777562e+09
B19: Grand Total | C19: 6.9275191e+08 | D19: 7.9709891e+08 | E19: 1.0131013e+09 | F19: 1.1280601e+09 | G19: 1.2324589e+09 | H19: 1.6741281e+09 | I19: 1.482738e+09 | J19: 1.6008899e+09 | K19: 1.5207802e+09 | L19: 1.7750001e+09 | M19: 2.1299434e+09 | N19: 3.0638691e+09 | O19: 3.6778823e+09 | P19: 2.9828874e+09 | Q19: 2.7889415e+09 | R19: 2.7848753e+09 | S19: 3.5243213e+09 | T19: 3.6011627e+09 | U19: 3.005553e+09 | V19: 4.0568466e+09
B22: Table 3.B: CNST
C24: Settlement Year
B25: Damages Tranche | C25: 2006/07 | D25: 2007/08 | E25: 2008/09 | F25: 2009/10 | G25: 2010/11 | H25: 2011/12 | I25: 2012/13 | J25: 2013/14 | K25: 2014/15 | L25: 2015/16 | M25: 2016/17 | N25: 2017/18 | O25: 2018/19 | P25: 2019/20 | Q25: 2020/21 | R25: 2021/22 | S25: 2022/23 | T25: 2023/24 | U25: 2024/25 | V25: 2025/26
B26: NIL | C26: 5980935 | D26: 5594800.2 | E26: 5545961 | F26: 5230353 | G26: 5595145.2 | H26: 6182571.2 | I26: 7924519.6 | J26: 8162352.6 | K26: 11436314 | L26: 14758537 | M26: 16227961 | N26: 16607700 | O26: 17461944 | P26: 20468220 | Q26: 18214223 | R26: 21090900 | S26: 22001970 | T26: 23315188 | U26: 23323364 | V26: 80236447
B27: £1-£1,500 | C27: 968096.54 | D27: 800448.7 | E27: 856090.27 | F27: 1110432.8 | G27: 1442359.8 | H27: 1402034 | I27: 2189948.3 | J27: 2624275.3 | K27: 2909634.5 | L27: 3404088 | M27: 3893090.4 | N27: 2794907.1 | O27: 2864509.5 | P27: 2941176 | Q27: 2201642.7 | R27: 2270928.3 | S27: 2242005.2 | T27: 2312342.8 | U27: 2718113.9 | V27: 1580670.1
B28: £1,501-£25,000 | C28: 39487487 | D28: 52726413 | E28: 51547285 | F28: 72091283 | G28: 82043439 | H28: 88633107 | I28: 95377328 | J28: 1.1012661e+08 | K28: 1.1491246e+08 | L28: 1.3364115e+08 | M28: 1.5203449e+08 | N28: 1.3837211e+08 | O28: 1.3243187e+08 | P28: 1.2842392e+08 | Q28: 1.3214552e+08 | R28: 1.1801636e+08 | S28: 1.26495e+08 | T28: 1.3020145e+08 | U28: 1.2453658e+08 | V28: 1.2759608e+08
B29: £25,001-£50,000 | C29: 28610965 | D29: 37272387 | E29: 34655839 | F29: 55479497 | G29: 57921151 | H29: 60361544 | I29: 62796982 | J29: 78167449 | K29: 68461585 | L29: 94517318 | M29: 99983016 | N29: 97305258 | O29: 91221628 | P29: 96416214 | Q29: 92952419 | R29: 86867554 | S29: 98063552 | T29: 96687015 | U29: 92406691 | V29: 1.0737372e+08
B30: £50,001-£100,000 | C30: 30451783 | D30: 43482628 | E30: 41772392 | F30: 56206939 | G30: 65515607 | H30: 66055232 | I30: 68544746 | J30: 87877527 | K30: 88220817 | L30: 1.0338756e+08 | M30: 1.2850788e+08 | N30: 1.0549295e+08 | O30: 1.0718111e+08 | P30: 1.1068727e+08 | Q30: 1.2228832e+08 | R30: 1.13636e+08 | S30: 1.2266985e+08 | T30: 1.1089648e+08 | U30: 1.050093e+08 | V30: 1.2584423e+08
B31: £100,001-£250,000 | C31: 47446185 | D31: 69095393 | E31: 71743230 | F31: 97645636 | G31: 86667999 | H31: 1.1830945e+08 | I31: 1.1072468e+08 | J31: 1.1034396e+08 | K31: 1.1027755e+08 | L31: 1.6300792e+08 | M31: 1.9014733e+08 | N31: 1.4968704e+08 | O31: 1.4704334e+08 | P31: 1.5973223e+08 | Q31: 1.6491618e+08 | R31: 1.539065e+08 | S31: 1.5843026e+08 | T31: 1.5502367e+08 | U31: 1.6865661e+08 | V31: 1.6838973e+08
B32: £250,001-£500,000 | C32: 27824815 | D32: 45041654 | E32: 41666076 | F32: 76288004 | G32: 70607497 | H32: 1.0013316e+08 | I32: 91143858 | J32: 96975382 | K32: 80884778 | L32: 1.2340363e+08 | M32: 1.4299469e+08 | N32: 1.2476049e+08 | O32: 1.3766919e+08 | P32: 1.4653781e+08 | Q32: 1.5786205e+08 | R32: 1.4014518e+08 | S32: 1.4114435e+08 | T32: 1.5156355e+08 | U32: 1.1669979e+08 | V32: 2.4943565e+08
B33: £500,001-£1,000,000 | C33: 31908698 | D33: 42720603 | E33: 40836580 | F33: 61983481 | G33: 80327569 | H33: 88454074 | I33: 92790965 | J33: 90639543 | K33: 87928804 | L33: 91984574 | M33: 1.2556633e+08 | N33: 1.5325551e+08 | O33: 1.8378666e+08 | P33: 1.5327475e+08 | Q33: 1.3285937e+08 | R33: 1.7065771e+08 | S33: 1.4079411e+08 | T33: 1.711811e+08 | U33: 1.585868e+08 | V33: 1.9833669e+08
B34: £1,000,001-£2,000,000 | C34: 34593964 | D34: 45789912 | E34: 44356508 | F34: 82660342 | G34: 67101673 | H34: 75213006 | I34: 64271570 | J34: 90352568 | K34: 88581157 | L34: 91595147 | M34: 1.1263232e+08 | N34: 1.4330797e+08 | O34: 1.9124944e+08 | P34: 1.633177e+08 | Q34: 1.7031006e+08 | R34: 1.1043832e+08 | S34: 1.3768448e+08 | T34: 1.7001467e+08 | U34: 1.4060012e+08 | V34: 1.9967644e+08
B35: £2,000,001-£4,499,999 | C35: 1.0672235e+08 | D35: 1.0302411e+08 | E35: 1.2381561e+08 | F35: 1.2832374e+08 | G35: 1.3391413e+08 | H35: 2.0105107e+08 | I35: 1.5713824e+08 | J35: 2.0026492e+08 | K35: 2.0936001e+08 | L35: 1.9082408e+08 | M35: 2.0735858e+08 | N35: 2.3947589e+08 | O35: 2.4944949e+08 | P35: 1.8782879e+08 | Q35: 1.8080794e+08 | R35: 1.9723284e+08 | S35: 1.7318419e+08 | T35: 2.6916985e+08 | U35: 1.5681756e+08 | V35: 2.8266487e+08
B36: £4,500,000+ | C36: 1.0973658e+08 | D36: 98130434 | E36: 2.7883359e+08 | F36: 2.5538906e+08 | G36: 3.8716479e+08 | H36: 6.1173473e+08 | I36: 4.8818262e+08 | J36: 5.9861511e+08 | K36: 4.8054818e+08 | L36: 6.8957137e+08 | M36: 7.9188309e+08 | N36: 1.7097659e+09 | O36: 2.2331576e+09 | P36: 1.7353166e+09 | Q36: 1.5526517e+09 | R36: 1.5223055e+09 | S36: 2.1587429e+09 | T36: 2.1168142e+09 | U36: 1.7877801e+09 | V36: 2.2697898e+09
B37: Grand Total | C37: 4.6373186e+08 | D37: 5.4367878e+08 | E37: 7.3562916e+08 | F37: 8.9240876e+08 | G37: 1.0383014e+09 | H37: 1.41753e+09 | I37: 1.2410854e+09 | J37: 1.4741497e+09 | K37: 1.3435213e+09 | L37: 1.7000954e+09 | M37: 1.9712288e+09 | N37: 2.8808257e+09 | O37: 3.4935168e+09 | P37: 2.9049447e+09 | Q37: 2.7272094e+09 | R37: 2.6365678e+09 | S37: 3.2814526e+09 | T37: 3.3971796e+09 | U37: 2.877135e+09 | V37: 3.8109243e+09
B39: Table 3.C: ExRHA
C41: Settlement Year
B42: Damages Tranche | C42: 2006/07 | D42: 2007/08 | E42: 2008/09 | F42: 2009/10 | G42: 2010/11 | H42: 2011/12 | I42: 2012/13 | J42: 2013/14 | K42: 2014/15 | L42: 2015/16 | M42: 2016/17 | N42: 2017/18 | O42: 2018/19 | P42: 2019/20 | Q42: 2020/21 | R42: 2021/22 | S42: 2022/23 | T42: 2023/24 | U42: 2024/25 | V42: 2025/26
B43: NIL | C43: 42252.98 | D43: 29684.43 | E43: 12000 | F43: 20680.62 | G43: 0 | H43: 0 | I43: 0 | J43: 0 | K43: 0 | L43: 0 | M43: 0 | N43: 72012.66 | O43: 0 | P43: 0 | Q43: 0 | R43: 0 | S43: 0 | T43: 0 | U43: 0 | V43: 0
B44: £1-£1,500 | C44: 0 | D44: 0 | E44: 0 | F44: 0 | G44: 0 | H44: 0 | I44: 0 | J44: 0 | K44: 0 | L44: 0 | M44: 0 | N44: 0 | O44: 0 | P44: 0 | Q44: 0 | R44: 0 | S44: 0 | T44: 0 | U44: 0 | V44: 0
B45: £1,501-£25,000 | C45: 0 | D45: 0 | E45: 0 | F45: 0 | G45: 0 | H45: 0 | I45: 0 | J45: 0 | K45: 0 | L45: 0 | M45: 0 | N45: 0 | O45: 0 | P45: 119435.29 | Q45: 0 | R45: 0 | S45: 0 | T45: 0 | U45: 0 | V45: 0
B46: £25,001-£50,000 | C46: 0 | D46: 0 | E46: 0 | F46: 0 | G46: 0 | H46: 0 | I46: 0 | J46: 0 | K46: 0 | L46: 0 | M46: 0 | N46: 0 | O46: 0 | P46: 0 | Q46: 0 | R46: 0 | S46: 0 | T46: 0 | U46: 0 | V46: 0
B47: £50,001-£100,000 | C47: 0 | D47: 0 | E47: 0 | F47: 0 | G47: 0 | H47: 0 | I47: 0 | J47: 0 | K47: 0 | L47: 0 | M47: 0 | N47: 0 | O47: 0 | P47: 0 | Q47: 0 | R47: 0 | S47: 0 | T47: 0 | U47: 0 | V47: 0
...

Sheet 4
B1: Sheet 4 Total Value of Settled Clinical Claims 2007/07 - 2025/26 (recorded as at 31.03.26)
B2: Damages (incl. capitalised periodic payments), NHS legal costs and cliamant legal cost, by financual year of settlement and specialty
B4: Table 4.A: All clinical schemes
C6: Settlement Year
B7: ARS Specialty | C7: 2006/07 | D7: 2007/08 | E7: 2008/09 | F7: 2009/10 | G7: 2010/11 | H7: 2011/12 | I7: 2012/13 | J7: 2013/14 | K7: 2014/15 | L7: 2015/16 | M7: 2016/17 | N7: 2017/18 | O7: 2018/19 | P7: 2019/20 | Q7: 2020/21 | R7: 2021/22 | S7: 2022/23 | T7: 2023/24 | U7: 2024/25 | V7: 2025/26
B8: Obstetrics CP/BD | C8: 3.3807889e+08 | D8: 3.255014e+08 | E8: 4.7481169e+08 | F8: 4.5986345e+08 | G8: 4.9493488e+08 | H8: 7.7173805e+08 | I8: 5.9600814e+08 | J8: 6.2917816e+08 | K8: 4.6222274e+08 | L8: 5.5329011e+08 | M8: 7.2961406e+08 | N8: 1.2913785e+09 | O8: 1.6402555e+09 | P8: 1.2570995e+09 | Q8: 1.2446319e+09 | R8: 1.0502797e+09 | S8: 1.461069e+09 | T8: 1.6205457e+09 | U8: 1.2536978e+09 | V8: 1.4813008e+09 | Y8: =IF(X8="","",IF(X8=0,0,IF(AND(ISNUMBER(X8),X8>=-5000,X8<=5000),"#",X8)))
B9: Obstetrics Non CP/BD | C9: 38002207 | D9: 63036527 | E9: 48401852 | F9: 70021177 | G9: 76718708 | H9: 1.0541061e+08 | I9: 1.1147857e+08 | J9: 1.1350573e+08 | K9: 1.1254627e+08 | L9: 1.0834223e+08 | M9: 1.5547293e+08 | N9: 1.4686344e+08 | O9: 2.4651318e+08 | P9: 2.1712173e+08 | Q9: 1.572503e+08 | R9: 1.691139e+08 | S9: 1.9785144e+08 | T9: 1.6454728e+08 | U9: 1.5822275e+08 | V9: 2.4405598e+08
B10: Neonatology CP/BD | C10: 0 | D10: 0 | E10: 0 | F10: 0 | G10: 0 | H10: 0 | I10: 5948183.9 | J10: 0 | K10: 0 | L10: 0 | M10: 0 | N10: 0 | O10: 380454.56 | P10: 38907.16 | Q10: 431139.04 | R10: 101764.91 | S10: 44954118 | T10: 49009097 | U10: 67806076 | V10: 43164215
B11: Neonatology Non CP/BD | C11: 0 | D11: 0 | E11: 0 | F11: 0 | G11: 0 | H11: 0 | I11: 0 | J11: 0 | K11: 0 | L11: 0 | M11: 0 | N11: 53639.89 | O11: 7382.34 | P11: 847122.88 | Q11: 163136.19 | R11: 331972.82 | S11: 776636.58 | T11: 1035847.1 | U11: 17807675 | V11: 2808228.4
B12: Paediatrics | C12: 52289942 | D12: 87068190 | E12: 1.2332357e+08 | F12: 79208858 | G12: 79217609 | H12: 1.1966516e+08 | I12: 1.0480287e+08 | J12: 97388168 | K12: 1.8885039e+08 | L12: 93177662 | M12: 1.4337057e+08 | N12: 2.4815225e+08 | O12: 3.4836567e+08 | P12: 3.3081052e+08 | Q12: 1.2330127e+08 | R12: 1.8890471e+08 | S12: 3.5172603e+08 | T12: 2.7530645e+08 | U12: 2.2754143e+08 | V12: 4.3836245e+08
B13: Emergency Medicine | C13: 47596131 | D13: 51471254 | E13: 61505275 | F13: 73648118 | G13: 87584080 | H13: 1.1591118e+08 | I13: 1.0035643e+08 | J13: 1.2607151e+08 | K13: 1.442125e+08 | L13: 1.3220904e+08 | M13: 1.7619344e+08 | N13: 2.0841374e+08 | O13: 2.515502e+08 | P13: 1.7104534e+08 | Q13: 2.0323955e+08 | R13: 2.1177439e+08 | S13: 2.9132029e+08 | T13: 2.5154629e+08 | U13: 2.3399105e+08 | V13: 3.060441e+08
B14: Trauma and Orthopaedic Surgery | C14: 36417350 | D14: 52993628 | E14: 66095831 | F14: 99383568 | G14: 1.0016628e+08 | H14: 1.1791111e+08 | I14: 1.1319469e+08 | J14: 1.2103668e+08 | K14: 1.4733931e+08 | L14: 1.8742074e+08 | M14: 1.9712876e+08 | N14: 1.7643019e+08 | O14: 1.7939776e+08 | P14: 1.5361658e+08 | Q14: 1.9318502e+08 | R14: 1.6253064e+08 | S14: 1.4368972e+08 | T14: 1.4855701e+08 | U14: 1.3598313e+08 | V14: 1.9316772e+08
B15: General Surgery | C15: 37253694 | D15: 45885825 | E15: 38347507 | F15: 67835626 | G15: 59165811 | H15: 66468640 | I15: 84732441 | J15: 88185143 | K15: 81820554 | L15: 1.0709138e+08 | M15: 1.2698165e+08 | N15: 1.1062567e+08 | O15: 1.3146397e+08 | P15: 1.1295948e+08 | Q15: 1.0685539e+08 | R15: 88422063 | S15: 87121298 | T15: 83024167 | U15: 85867820 | V15: 1.1625509e+08
B16: Neurosurgery | C16: 14411094 | D16: 5475528.2 | E16: 12419976 | F16: 22203486 | G16: 28187456 | H16: 30372987 | I16: 53201868 | J16: 35189636 | K16: 36028309 | L16: 74448447 | M16: 55389968 | N16: 1.1389273e+08 | O16: 1.0678044e+08 | P16: 91502915 | Q16: 39324898 | R16: 1.0943576e+08 | S16: 78906652 | T16: 78434452 | U16: 46995985 | V16: 1.1048034e+08
B17: General Medicine | C17: 25068581 | D17: 18397486 | E17: 17380368 | F17: 35286264 | G17: 36528828 | H17: 61016241 | I17: 41903037 | J17: 68883476 | K17: 32555299 | L17: 42781760 | M17: 50095518 | N17: 90812306 | O17: 65554584 | P17: 40656875 | Q17: 48747617 | R17: 38486790 | S17: 43214179 | T17: 43702782 | U17: 55570155 | V17: 81658207
B18: Gynaecology | C18: 14521392 | D18: 16987353 | E18: 17390625 | F18: 30029964 | G18: 22057331 | H18: 31182212 | I18: 21958201 | J18: 27815087 | K18: 35293012 | L18: 67376535 | M18: 50840515 | N18: 79273985 | O18: 70013346 | P18: 51138818 | Q18: 72237976 | R18: 60273602 | S18: 58388011 | T18: 70556044 | U18: 59445057 | V18: 73158269
B19: Radiology | C19: 4508985.4 | D19: 16051604 | E19: 7013006.6 | F19: 13418441 | G19: 17291549 | H19: 12797254 | I19: 11081850 | J19: 24952219 | K19: 36526889 | L19: 19373564 | M19: 34617902 | N19: 67383956 | O19: 91949070 | P19: 48740690 | Q19: 65177278 | R19: 80220525 | S19: 52081021 | T19: 78354732 | U19: 45570831 | V19: 80778740
B20: Neurology | C20: 3204554.7 | D20: 2003170.6 | E20: 6921811.6 | F20: 11956097 | G20: 33693623 | H20: 16069859 | I20: 22752897 | J20: 35336536 | K20: 19740490 | L20: 22174679 | M20: 48136738 | N20: 47107531 | O20: 41149168 | P20: 28287935 | Q20: 23075649 | R20: 31413928 | S20: 30578367 | T20: 44011764 | U20: 24247295 | V20: 18052779
... B28: Grand Total | C28: 6.9275191e+08 | D28: 7.9709891e+08 | E28: 1.0131013e+09 | F28: 1.1280601e+09 | G28: 1.2324589e+09 | H28: 1.6741281e+09 | I28: 1.482738e+09 | J28: 1.6008899e+09 | K28: 1.5207802e+09 | L28: 1.7750001e+09 | M28: 2.1299434e+09 | N28: 3.0638691e+09 | O28: 3.6778823e+09 | P28: 2.9828874e+09 | Q28: 2.7889415e+09 | R28: 2.7848753e+09 | S28: 3.5243213e+09 | T28: 3.6011627e+09 | U28: 3.005553e+09 | V28: 4.0568466e+09
B30: Table 4.B: CNST
C32: Settlement Year
B33: ARS Specialty | C33: 2006/07 | D33: 2007/08 | E33: 2008/09 | F33: 2009/10 | G33: 2010/11 | H33: 2011/12 | I33: 2012/13 | J33: 2013/14 | K33: 2014/15 | L33: 2015/16 | M33: 2016/17 | N33: 2017/18 | O33: 2018/19 | P33: 2019/20 | Q33: 2020/21 | R33: 2021/22 | S33: 2022/23 | T33: 2023/24 | U33: 2024/25 | V33: 2025/26
B34: Obstetrics CP/BD | C34: 1.7257073e+08 | D34: 1.634111e+08 | E34: 2.7697151e+08 | F34: 2.7588366e+08 | G34: 3.5811826e+08 | H34: 5.90734e+08 | I34: 4.4306522e+08 | J34: 5.6730886e+08 | K34: 3.9335219e+08 | L34: 5.2653904e+08 | M34: 6.6194926e+08 | N34: 1.1874797e+09 | O34: 1.5258456e+09 | P34: 1.2127649e+09 | Q34: 1.2375528e+09 | R34: 1.0305768e+09 | S34: 1.4028722e+09 | T34: 1.5952117e+09 | U34: 1.2344337e+09 | V34: 1.4373969e+09
B35: Obstetrics Non CP/BD | C35: 34196787 | D35: 46051287 | E35: 37889745 | F35: 61783846 | G35: 63570828 | H35: 1.0035547e+08 | I35: 79926414 | J35: 1.0342183e+08 | K35: 1.0477885e+08 | L35: 1.0404171e+08 | M35: 1.3349651e+08 | N35: 1.4196142e+08 | O35: 2.4608663e+08 | P35: 2.1674249e+08 | Q35: 1.5724248e+08 | R35: 1.6903603e+08 | S35: 1.8492235e+08 | T35: 1.6442114e+08 | U35: 1.5767276e+08 | V35: 2.4393242e+08
B36: Neonatology CP/BD | C36: 0 | D36: 0 | E36: 0 | F36: 0 | G36: 0 | H36: 0 | I36: 5948183.9 | J36: 0 | K36: 0 | L36: 0 | M36: 0 | N36: 0 | O36: 380454.56 | P36: 38907.16 | Q36: 431139.04 | R36: 101764.91 | S36: 44954118 | T36: 49009097 | U36: 67806076 | V36: 43164215
B37: Neonatology Non CP/BD | C37: 0 | D37: 0 | E37: 0 | F37: 0 | G37: 0 | H37: 0 | I37: 0 | J37: 0 | K37: 0 | L37: 0 | M37: 0 | N37: 53639.89 | O37: 7382.34 | P37: 847122.88 | Q37: 163136.19 | R37: 331972.82 | S37: 776636.58 | T37: 1035847.1 | U37: 17807675 | V37: 2808228.4
B38: Paediatrics | C38: 14163105 | D38: 36940198 | E38: 83375107 | F38: 59363247 | G38: 62080335 | H38: 93896865 | I38: 81718737 | J38: 83484303 | K38: 1.2496616e+08 | L38: 82612667 | M38: 1.0877572e+08 | N38: 1.8945348e+08 | O38: 3.1896102e+08 | P38: 3.2476937e+08 | Q38: 1.2254445e+08 | R38: 1.8570314e+08 | S38: 3.504087e+08 | T38: 2.7259376e+08 | U38: 2.2544288e+08 | V38: 4.2506857e+08
B39: Emergency Medicine | C39: 42701369 | D39: 50752943 | E39: 59387789 | F39: 69733295 | G39: 87021065 | H39: 1.1591013e+08 | I39: 99911494 | J39: 1.2405821e+08 | K39: 1.3422258e+08 | L39: 1.315395e+08 | M39: 1.7322017e+08 | N39: 2.0836915e+08 | O39: 2.5105889e+08 | P39: 1.7104534e+08 | Q39: 2.0322949e+08 | R39: 2.1174232e+08 | S39: 2.9125071e+08 | T39: 2.5141791e+08 | U39: 2.3385706e+08 | V39: 3.0593793e+08
B40: Trauma and Orthopaedic Surgery | C40: 35001588 | D40: 49607504 | E40: 63678604 | F40: 97532479 | G40: 98941174 | H40: 1.1459618e+08 | I40: 1.0423183e+08 | J40: 1.1405466e+08 | K40: 1.3887294e+08 | L40: 1.8045955e+08 | M40: 1.8396502e+08 | N40: 1.6787075e+08 | O40: 1.7554328e+08 | P40: 1.5015115e+08 | Q40: 1.91288e+08 | R40: 1.5941659e+08 | S40: 1.4347946e+08 | T40: 1.4776539e+08 | U40: 1.3579088e+08 | V40: 1.9289792e+08
B41: General Surgery | C41: 30374709 | D41: 43626851 | E41: 37584523 | F41: 66786623 | G41: 58246717 | H41: 66353031 | I41: 76342639 | J41: 82179172 | K41: 80734355 | L41: 1.0553646e+08 | M41: 1.2621406e+08 | N41: 1.0848591e+08 | O41: 1.3126359e+08 | P41: 1.1278195e+08 | Q41: 1.0515711e+08 | R41: 88368254 | S41: 86853695 | T41: 82847198 | U41: 85792334 | V41: 1.1516378e+08
B42: Neurosurgery | C42: 14411094 | D42: 3740920.4 | E42: 12131587 | F42: 18527882 | G42: 28095416 | H42: 30335021 | I42: 52872735 | J42: 34116660 | K42: 35977651 | L42: 74430253 | M42: 55389968 | N42: 1.1351506e+08 | O42: 1.0677946e+08 | P42: 91494666 | Q42: 39323973 | R42: 1.0823545e+08 | S42: 78906652 | T42: 78434452 | U42: 46961295 | V42: 1.1048034e+08
B43: General Medicine | C43: 24043619 | D43: 17798089 | E43: 16071951 | F43: 34336220 | G43: 36523431 | H43: 51912187 | I43: 41209076 | J43: 67914977 | K43: 32284429 | L43: 42644826 | M43: 46150503 | N43: 90721667 | O43: 65062360 | P43: 40528859 | Q43: 48664835 | R43: 38457169 | S43: 42711201 | T43: 43659560 | U43: 55544959 | V43: 72112765
B44: Gynaecology | C44: 13334106 | D44: 16646907 | E44: 17296526 | F44: 29959638 | G44: 22035006 | H44: 31182212 | I44: 21193913 | J44: 27211520 | K44: 34202617 | L44: 55817112 | M44: 50108271 | N44: 78553708 | O44: 69686526 | P44: 50987635 | Q44: 72155475 | R44: 60273602 | S44: 58227566 | T44: 63520305 | U44: 59199915 | V44: 71586920
B45: Radiology | C45: 4003004.7 | D45: 15290976 | E45: 7013006.6 | F45: 13371941 | G45: 17291549 | H45: 12797254 | I45: 11058798 | J45: 24951494 | K45: 34785615 | L45: 19168167 | M45: 34315403 | N45: 67299566 | O45: 91688487 | P45: 48635796 | Q45: 63695944 | R45: 80220525 | S45: 51917369 | T45: 78323486 | U45: 45468193 | V45: 80740240
... B54: All Specialties | C54: 4.6373186e+08 | D54: 5.4367878e+08 | E54: 7.3562916e+08 | F54: 8.9240876e+08 | G54: 1.0383014e+09 | H54: 1.41753e+09 | I54: 1.2410854e+09 | J54: 1.4741497e+09 | K54: 1.3435213e+09 | L54: 1.7000954e+09 | M54: 1.9712288e+09 | N54: 2.8808257e+09 | O54: 3.4935168e+09 | P54: 2.9049447e+09 | Q54: 2.7272094e+09 | R54: 2.6365678e+09 | S54: 3.2814526e+09 | T54: 3.3971796e+09 | U54: 2.877135e+09 | V54: 3.8109243e+09
B56: Table 4.C: ExRHA
C58: Settlement Year
B59: ARS Specialty | C59: 2006/07 | D59: 2007/08 | E59: 2008/09 | F59: 2009/10 | G59: 2010/11 | H59: 2011/12 | I59: 2012/13 | J59: 2013/14 | K59: 2014/15 | L59: 2015/16 | M59: 2016/17 | N59: 2017/18 | O59: 2018/19 | P59: 2019/20 | Q59: 2020/21 | R59: 2021/22 | S59: 2022/23 | T59: 2023/24 | U59: 2024/25 | V59: 2025/26
B60: Obstetrics CP/BD | C60: 0 | D60: 0 | E60: 7802535 | F60: 0 | G60: 0 | H60: 6754335.6 | I60: 0 | J60: 0 | K60: 0 | L60: 0 | M60: 0 | N60: 0 | O60: 0 | P60: 0 | Q60: 0 | R60: 0 | S60: 0 | T60: 0 | U60: 0 | V60: 0
B61: Obstetrics Non CP/BD | C61: 0 | D61: 302764.63 | E61: 0 | F61: 0 | G61: 0 | H61: 0 | I61: 0 | J61: 6097261.7 | K61: 0 | L61: 0 | M61: 0 | N61: 0 | O61: 0 | P61: 0 | Q61: 0 | R61: 0 | S61: 0 | T61: 0 | U61: 0 | V61: 0
...

Sheet 5
B1: Sheet 5 Total Damages Value of Settled Clinical Claims 2006/07 - 2025/26 (recorded as at 31.03.26)
B2: Damages incl. capitalised periodic payments, by finanical year of settlement and damages value band
B5: Table 5.A.1: All clinical schemes
C7: Settlement Year
B8: Damages value band | C8: 2006/07 | D8: 2007/08 | E8: 2008/09 | F8: 2009/10 | G8: 2010/11 | H8: 2011/12 | I8: 2012/13 | J8: 2013/14 | K8: 2014/15 | L8: 2015/16 | M8: 2016/17 | N8: 2017/18 | O8: 2018/19 | P8: 2019/20 | Q8: 2020/21 | R8: 2021/22 | S8: 2022/23 | T8: 2023/24 | U8: 2024/25 | V8: 2025/26
B9: Nil | C9: -16202.69 | D9: # | E9: # | F9: -40032.67 | G9: # | H9: -25000.02 | I9: -7471.32 | J9: -19532.08 | K9: -42892.22 | L9: -17033.3 | M9: -6729.99 | N9: -48839.76 | O9: # | P9: -14745.18 | Q9: -9751.88 | R9: -61524.29 | S9: -16715.71 | T9: -42349.03 | U9: -10179 | V9: -10231.6
